BEGIN:VCALENDAR
VERSION:2.0
PRODID:-//Eurocamping Manhay - ECPv6.15.20//NONSGML v1.0//EN
CALSCALE:GREGORIAN
METHOD:PUBLISH
X-ORIGINAL-URL:https://www.eurocamping.be
X-WR-CALDESC:Evenementen voor Eurocamping Manhay
REFRESH-INTERVAL;VALUE=DURATION:PT1H
X-Robots-Tag:noindex
X-PUBLISHED-TTL:PT1H
BEGIN:VTIMEZONE
TZID:UTC
BEGIN:STANDARD
TZOFFSETFROM:+0000
TZOFFSETTO:+0000
TZNAME:UTC
DTSTART:20240101T000000
END:STANDARD
END:VTIMEZONE
BEGIN:VEVENT
DTSTART;TZID=UTC:20250802T160000
DTEND;TZID=UTC:20250803T010000
DTSTAMP:20260421T103331
CREATED:20250512T122313Z
LAST-MODIFIED:20250512T122704Z
UID:5075-1754150400-1754182800@www.eurocamping.be
SUMMARY:Feestelijke overdracht Eurocamping op 2 Augustus – Transition Eurocamping
DESCRIPTION:Na maar liefst 46 jaar vol warmte\, toewijding en onvergetelijke zomers nemen Jan en Els de Vries afscheid als beheerders van hun geliefde Eurocamping. Wat begon als een droom is uitgegroeid tot een vaste vakantiebestemming voor generaties kampeerders\, een plek waar herinneringen zijn gemaakt en vriendschappen zijn ontstaan. Nu is het tijd voor een nieuw hoofdstuk\, en dat willen we graag samen met u vieren! \nMet trots kondigen we aan dat de Eurocamping zal worden overgedragen aan Christof van den Berge en Marga ten Brink. Zij nemen met veel enthousiasme het stokje over en zetten vanaf 1 januari 2026 de camping voort in dezelfde vertrouwde sfeer en gastvrijheid die u gewend bent. \nEen jaar lang van overdracht en inwerken\nHet komende jaar staat volledig in het teken van overdracht. Jan en Els nemen langzaam afscheid van hun levenswerk\, terwijl Christof en Marga stap voor stap worden ingewerkt. Het is een intensief proces waarin niet alleen de dagelijkse gang van zaken op de camping wordt overgedragen\, maar ook alle financiële\, praktische en organisatorische aspecten. Samen maken we van 2025 een jaar waarin oud en nieuw hand in hand gaan. De Brasserie van Eurocamping hebben ze al met veel enthousiasme overgenomen en opnieuw leven in geblazen. \nEen goede reden voor een groot feest!\nOndanks het afscheid van Jan en Els is er alle reden om te vieren. De Eurocamping blijft bestaan! En dat is iets waar we ontzettend blij mee zijn. Om dit bijzondere moment samen te markeren\, nodigen wij u als (camping)gast van harte uit voor een feestelijke bijeenkomst op 2 augustus vanaf 16.00 uur op Eurocamping. Het wordt een middag vol gezelligheid\, herinneringen ophalen en vooruitkijken naar een mooie toekomst. We nemen feestelijk afscheid van Jan en Els en heten Christof\, Marga én hun zoon Billy van harte welkom in de Eurocamping-familie. \nKomt u ook een drankje doen?\nOf u nu een vaste gast bent of voor het eerst kennismaakt met de Eurocamping\, u bent van harte welkom tijdens dit speciale evenement. Laten we samen toosten op alles wat Jan en Els voor ons hebben betekend en op de mooie toekomst die voor ons ligt met Christof en Marga aan het roer. Wij kijken ernaar uit u te mogen verwelkomen op 2 augustus en samen een mooie nieuwe bladzijde in het boek van Eurocamping te schrijven. \nWe hebben\, vuurwerk\, live muziek\, een DJ en voor de late uurtjes een Karaoke op de agenda staan\, dus het belooft een gezellige dag te worden! \n=========================== \nTransition Eurocamping 1979 – 2025\nAprès plus de 46 années remplies de chaleur\, de dévouement et d’étés inoubliables\, Jan et Els de Vries font leurs adieux en tant que gérants de leur bien-aimé Eurocamping et passent le flambeau. Ce qui a debuté comme un rêve est devenu une destination de vacances incontournable pour plusieurs générations de campeurs. Un lieu où se sont créés des souvenirs et des amitiés inoubliables. Il est temps de commencer un nouveau chapitre — et nous aimerions le célébrer avec vous! \nNous avons le plaisir de vous annoncer que la gestion de l’Eurocamping sera reprise par Christof van den Berge et Marga ten Brink dans le même esprit. À partir du 1er janvier 2026\, ils assureront la continuité du camping en préservant l’atmosphère chaleureuse\, conviviale et familiale que vous connaissez et appréciez. Avec enthousiasme\, ils s’engagent à faire vivre l’esprit d’Eurocamping pour les générations à venir. \nUne année de transition et de transmission\nL’année 2025 sera placée sous le signe de la transition. Jan et Els commenceront à dire au revoir à l’œuvre de leur vie\, tandis que Christof et Marga seront progressivement formés pour reprendre le flambeau. Cette période de passation ne concernera pas seulement la gestion quotidienne du camping\, mais aussi tous les volets financiers\, pratiques et organisationnels. Ensemble\, nous ferons de cette année un pont entre le passé et l’avenir. La Brasserie de l’Eurocamping\, quant à elle\, a déjà été reprise par Christof et Marga\, qui y insufflent une nouvelle énergie avec beaucoup d’enthousiasme. \nUne belle occasion de faire la fête !\nMême si l’heure est venue de dire au revoir à Jan et Els\, nous avons toutes les raisons de célébrer. L’Eurocamping continue son aventure — et c’est une excellente nouvelle !\nPour marquer ce moment particulier\, nous invitons chaleureusement tous nos campeurs\, anciens et actuels\, à une fête conviviale le 2 août à partir de 16h00 à l’Eurocamping. \nUn après-midi placé sous le signe de la joie\, des souvenirs partagés et des projets tournés vers l’avenir. Ensemble\, nous rendrons un hommage festif à Jan et Els\, et accueillerons chaleureusement Christof\, Marga et leur fils Billy dans la grande famille de l’Eurocamping. \nUn petit verre avec nous ?\nQue vous soyez un habitué de longue date ou un nouveau venu à l’Eurocamping\, vous êtes chaleureusement invité à cet événement exceptionnel. Levons notre verre à tout ce que Jan et Els ont apporté au fil des années\, et trinquons à l’avenir prometteur sous la direction de Christof et Marga. \nNous avons hâte de vous retrouver le 2 août pour écrire ensemble une nouvelle page de l’histoire de l’Eurocamping — dans la convivialité\, la gratitude et l’enthousiasme. À très bientôt ! \nAu programme: des feux d’artifice\, de la musique live\, un DJ\, et même un karaoké pour les plus noctambules — une journée festive et inoubliable en perspective !
URL:https://www.eurocamping.be/event/feestelijke-overdracht-eurocamping-op-2-augustus-transition-eurocamping/
CATEGORIES:EVENTS | EUROCAMPING
ATTACH;FMTTYPE=image/jpeg:https://www.eurocamping.be/wp-content/uploads/2025/05/nieuws_overdracht-2.jpg
END:VEVENT
BEGIN:VEVENT
DTSTART;TZID=UTC:20250712T080000
DTEND;TZID=UTC:20250816T170000
DTSTAMP:20260421T103331
CREATED:20250704T142531Z
LAST-MODIFIED:20250704T143535Z
UID:5131-1752307200-1755363600@www.eurocamping.be
SUMMARY:Zomer progamma /Programme D'été
DESCRIPTION:
URL:https://www.eurocamping.be/event/zomer-progamma-programme-dete/
CATEGORIES:EVENTS | BRASSERIE EUROCAMPING
END:VEVENT
BEGIN:VEVENT
DTSTART;TZID=UTC:20250528T080000
DTEND;TZID=UTC:20250601T170000
DTSTAMP:20260421T103331
CREATED:20250505T201628Z
LAST-MODIFIED:20250506T093657Z
UID:5029-1748419200-1748797200@www.eurocamping.be
SUMMARY:Hemelvaart weekend/ Week-end de l'Ascension
DESCRIPTION:
URL:https://www.eurocamping.be/event/hemelvaart-weekend-week-end-de-lascension/
LOCATION:Brasserie Eurocamping\, Lamormenil\, Belgium
CATEGORIES:EVENTS | BRASSERIE EUROCAMPING,EVENTS | EUROCAMPING
ATTACH;FMTTYPE=image/jpeg:https://www.eurocamping.be/wp-content/uploads/2025/05/image090.jpg
END:VEVENT
BEGIN:VEVENT
DTSTART;TZID=UTC:20250420T100000
DTEND;TZID=UTC:20250420T120000
DTSTAMP:20260421T103331
CREATED:20250311T200446Z
LAST-MODIFIED:20250319T094218Z
UID:4548-1745143200-1745150400@www.eurocamping.be
SUMMARY:Paasontbijt in de Ardennen
DESCRIPTION:Pasen staat voor de deur\, en dat vieren we graag samen met jullie! Op 20 april nodigen we jullie van harte uit voor een gezellig en smakelijk Paasontbijt in de Brasserie\, gevolgd door een spannende paaseierenzoektocht voor kinderen tot 15 jaar. \nGeniet van een uitgebreid en feestelijk ontbijtbuffet met versgebakken croissants\, knapperige broodjes\, een heerlijke selectie kazen en fijne vleeswaren. We serveren ook warme gerechten zoals roerei en spek\, en voor de zoetekauwen is er yoghurt met vers fruit en granola. Natuurlijk schenken we thee en sapjes om het ontbijt compleet te maken. \nNa het ontbijt is het tijd voor de kinderen om op avontuur te gaan! In en rondom de Brasserie liggen paaseitjes verstopt en wie weet vindt iemand wel het gouden ei met
URL:https://www.eurocamping.be/event/paasontbijt/
LOCATION:Brasserie Eurocamping\, Lamormenil\, Belgium
CATEGORIES:EVENTS | BRASSERIE EUROCAMPING
ATTACH;FMTTYPE=image/png:https://www.eurocamping.be/wp-content/uploads/2025/03/Paasontbijt-eieren-zoeken_20250311_212231_000057.png
END:VEVENT
BEGIN:VEVENT
DTSTART;TZID=UTC:20250419T200000
DTEND;TZID=UTC:20250420T010000
DTSTAMP:20260421T103331
CREATED:20250311T201042Z
LAST-MODIFIED:20250319T093820Z
UID:4561-1745092800-1745110800@www.eurocamping.be
SUMMARY:80's 90's Party time
DESCRIPTION:Trek je dansschoenen aan en bereid je voor op een epische muziekparty vol nostalgische vibes! We nemen je mee terug naar de jaren 80 en 90\, de tijd van legendarische hits\, iconische dansmoves en onvergetelijke herinneringen. Een speciaal ingevlogen DJ maakt de avond helemaal compleet met deze throwback party. Kom naar de Brasserie!
URL:https://www.eurocamping.be/event/80s-90s-party/
LOCATION:Brasserie Eurocamping\, Lamormenil\, Belgium
CATEGORIES:EVENTS | BRASSERIE EUROCAMPING
ATTACH;FMTTYPE=image/png:https://www.eurocamping.be/wp-content/uploads/2025/03/8090s_20250311_205927_000051.png
END:VEVENT
BEGIN:VEVENT
DTSTART;VALUE=DATE:20250307
DTEND;VALUE=DATE:20250309
DTSTAMP:20260421T103331
CREATED:20250307T083347Z
LAST-MODIFIED:20250307T083605Z
UID:4530-1741305600-1741478399@www.eurocamping.be
SUMMARY:Onbeperkt Spareribs
DESCRIPTION:De keuken is ook weer volledig open!\nNu de rust is teruggekeerd\, is het tijd om te genieten van de heerlijke gerechten die de brasserie te bieden heeft. Bourgondische liefhebbers kunnen vanaf nu terecht voor smakelijke diners\, bereid door Chris en Marga. \nKomend weekend is er een speciale actie: Vrijdag 7 maart en zaterdag 8 maart onbeperkt spareribs eten voor slechts €22\,-! Een geweldige kans om kennis te maken met de keuken van de nieuwe uitbaters. \nReserveer snel een tafel en beleef zelf de gastvrijheid van Brasserie Eurocamping!\nTelefoon: +32 492 98 11 39 of mail brasserie@eurocamping.be \n 
URL:https://www.eurocamping.be/event/onbeperkt-spareribs/
CATEGORIES:EVENTS | BRASSERIE EUROCAMPING
ATTACH;FMTTYPE=image/jpeg:https://www.eurocamping.be/wp-content/uploads/2025/03/spareribs.jpg
END:VEVENT
BEGIN:VEVENT
DTSTART;TZID=UTC:20250305T080000
DTEND;TZID=UTC:20250305T170000
DTSTAMP:20260421T103331
CREATED:20250220T095246Z
LAST-MODIFIED:20250307T083721Z
UID:4502-1741161600-1741194000@www.eurocamping.be
SUMMARY:D'inspiration pour les vacances?
DESCRIPTION:En quête d’inspiration pour les vacances de printemps?\nMercredi 5 mars\, crêpes américaines à illimité pour €5\,50 et laissez les enfants profiter de l’aire de jeux !\n\n\nHoraires d’ouverture pendant les vacances de printemps :\n\n\n\nSamedi 1er mars: grande ouverture à partir de 16 heures.\n\nDimanche 2 mars: de 10h à 23h.\nLundi 3 mars: de 10h à 23h.\nMardi 4 mars: de 10h à 23h.\nMercredi 5 mars: de 10h à 23h.\nJeudi 6 mars: de 10h à 23h.\nVendredi 7 mars: de 10 heures à 01h.\nSamedi 8 mars: de 10 h. à 01h.\nDimanche 9 mars: de 10h à 23h.\n\n\nNEDERLANDS\nOp zoek naar inspiratie voor in de krokusvakantie?\n\nWoensdag 5 maart onbeperkt American pancakes voor €5.50 en laat de kinderen genieten in de speeltuin!\n\n\nOpeningstijden voorjaarsvakantie:\n\n\n\nZaterdag 1 maart: grande opening vanaf 16u.\n\nZondag 2 maart: 10u tot 23u.\nMaandag 3 maart: 10u tot 23u.\nDinsdag 4 maart: 10u tot 23u.\nWoensdag 5 maart: 10u tot 23u.\nDonderdag 6 maart: 10u tot 23u.\nVrijdag 7 maart: 10u tot 01u.\nZaterdag 8 maart: 10u tot 01u.\nZondag 9 maart: 10u tot 23u
URL:https://www.eurocamping.be/event/dinspiration-pour-les-vacances/
CATEGORIES:EVENTS | BRASSERIE EUROCAMPING,EVENTS | EUROCAMPING
ATTACH;FMTTYPE=image/jpeg:https://www.eurocamping.be/wp-content/uploads/2025/02/speeltuin.jpg
END:VEVENT
BEGIN:VEVENT
DTSTART;VALUE=DATE:20250301
DTEND;VALUE=DATE:20250302
DTSTAMP:20260421T103331
CREATED:20250218T154519Z
LAST-MODIFIED:20250218T154556Z
UID:4264-1740787200-1740873599@www.eurocamping.be
SUMMARY:Re-Opening Brasserie
DESCRIPTION:Het aftellen is begonnen! Op 1 maart opent de compleet vernieuwde Brasserie Eurocamping haar deuren en dat willen we groots vieren. De nieuwe uitbaters\, Chris en Marga\, kunnen niet wachten om jullie te verwelkomen in een sfeervolle en gastvrije omgeving waar gezelligheid en culinaire verwennerij samenkomen. \nDe laatste puntjes worden op de i gezet: de verlichting hangt bijna op zijn plek\, de muziekinstallatie wordt fijngestemd en een likje verf maakt alles helemaal af. En dan is het zover: de heropening van de Brasserie waar bourgondisch genieten centraal staat! \nFeestelijke Opening – Een dag om niet te missen!
URL:https://www.eurocamping.be/event/re-opening-brasserie/
LOCATION:Brasserie Eurocamping\, Lamormenil\, Belgium
CATEGORIES:EVENTS | BRASSERIE EUROCAMPING
ATTACH;FMTTYPE=image/jpeg:https://www.eurocamping.be/wp-content/uploads/2016/10/Re-opening_2025-2.jpg
END:VEVENT
BEGIN:VEVENT
DTSTART;VALUE=DATE:20250217
DTEND;VALUE=DATE:20250218
DTSTAMP:20260421T103331
CREATED:20250217T191436Z
LAST-MODIFIED:20250219T123331Z
UID:3887-1739750400-1739836799@www.eurocamping.be
SUMMARY:Bingo
DESCRIPTION:fdfdfd
URL:https://www.eurocamping.be/event/bingo/
CATEGORIES:EVENTS | EUROCAMPING
ATTACH;FMTTYPE=image/jpeg:https://www.eurocamping.be/wp-content/uploads/2025/02/Bewerkt11.jpg
END:VEVENT
END:VCALENDAR